BEGIN:VCALENDAR
VERSION:2.0
PRODID:-//Fischkrieg - ECPv6.8.2.1//NONSGML v1.0//EN
CALSCALE:GREGORIAN
METHOD:PUBLISH
X-WR-CALNAME:Fischkrieg
X-ORIGINAL-URL:https://fischkrieg.de
X-WR-CALDESC:Veranstaltungen für Fischkrieg
REFRESH-INTERVAL;VALUE=DURATION:PT1H
X-Robots-Tag:noindex
X-PUBLISHED-TTL:PT1H
BEGIN:VTIMEZONE
TZID:Europe/Berlin
BEGIN:DAYLIGHT
TZOFFSETFROM:+0100
TZOFFSETTO:+0200
TZNAME:CEST
DTSTART:20250330T010000
END:DAYLIGHT
BEGIN:STANDARD
TZOFFSETFROM:+0200
TZOFFSETTO:+0100
TZNAME:CET
DTSTART:20251026T010000
END:STANDARD
END:VTIMEZONE
BEGIN:VEVENT
DTSTART;TZID=Europe/Berlin:20250404T180000
DTEND;TZID=Europe/Berlin:20250404T220000
DTSTAMP:20260422T135222
CREATED:20250325T215839Z
LAST-MODIFIED:20250325T215839Z
UID:10000974-1743789600-1743804000@fischkrieg.de
SUMMARY:Tarkir Drachensturm Prerelease
DESCRIPTION:Das neue Magic\, The Gathering Set erscheint und natürlich feiern wir das mit unseren Prereleases. Nutzt diese frühzeitige Möglichkeit\, euch die neuen Karten in Natura anzusehen! \nAnmeldecode ZQQVM6J \nTeilnahmegebühr 35 € \nDafür erhält jeder ein deutsches Prerelease-Kit\, um damit zu spielen. Nach dem Turnier bekommt jeder nochmal 2 detsche Booster des neuen Sets
URL:https://fischkrieg.de/event/tarkir-drachensturm-prerelease/
CATEGORIES:Magic
ATTACH;FMTTYPE=image/jpeg:https://fischkrieg.de/wp-content/uploads/2025/03/TarkirFR.jpg
END:VEVENT
BEGIN:VEVENT
DTSTART;TZID=Europe/Berlin:20250405T150000
DTEND;TZID=Europe/Berlin:20250405T183000
DTSTAMP:20260422T135222
CREATED:20250325T220338Z
LAST-MODIFIED:20250325T220338Z
UID:10000976-1743865200-1743877800@fischkrieg.de
SUMMARY:Tarkir Drachensturm Prerelease
DESCRIPTION:Das neue Magic\, The Gathering Set erscheint und natürlich feiern wir das mit unseren Prereleases. Nutzt diese frühzeitige Möglichkeit\, euch die neuen Karten in Natura anzusehen! \nAnmeldecode V22Z3R4 \nTeilnahmegebühr 35 € \nDafür erhält jeder ein deutsches Prerelease-Kit\, um damit zu spielen. Nach dem Turnier bekommt jeder nochmal 2 detsche Booster des neuen Sets
URL:https://fischkrieg.de/event/tarkir-drachensturm-prerelease-3/
LOCATION:Fischkrieg Siegen\, Sandstraße 20\, Siegen\, NRW\, 57072\, Germany
ATTACH;FMTTYPE=image/jpeg:https://fischkrieg.de/wp-content/uploads/2025/03/TarkirSA2.jpg
END:VEVENT
END:VCALENDAR