BEGIN:VCALENDAR
VERSION:2.0
PRODID:-//Fischkrieg - ECPv6.8.2.1//NONSGML v1.0//EN
CALSCALE:GREGORIAN
METHOD:PUBLISH
X-WR-CALNAME:Fischkrieg
X-ORIGINAL-URL:https://fischkrieg.de
X-WR-CALDESC:Veranstaltungen für Fischkrieg
REFRESH-INTERVAL;VALUE=DURATION:PT1H
X-Robots-Tag:noindex
X-PUBLISHED-TTL:PT1H
BEGIN:VTIMEZONE
TZID:Europe/Berlin
BEGIN:DAYLIGHT
TZOFFSETFROM:+0100
TZOFFSETTO:+0200
TZNAME:CEST
DTSTART:20250330T010000
END:DAYLIGHT
BEGIN:STANDARD
TZOFFSETFROM:+0200
TZOFFSETTO:+0100
TZNAME:CET
DTSTART:20251026T010000
END:STANDARD
END:VTIMEZONE
BEGIN:VEVENT
DTSTART;TZID=Europe/Berlin:20250606T180000
DTEND;TZID=Europe/Berlin:20250606T220000
DTSTAMP:20260419T154519
CREATED:20250604T200246Z
LAST-MODIFIED:20250604T200246Z
UID:10000978-1749232800-1749247200@fischkrieg.de
SUMMARY:Final Fantasy Prerelease
DESCRIPTION:Unser erstes Final Fantasy Prerelease Für eure Startgebühr erhaltet ihr ein Final Fantasy Prerelease-Kit und nach dem Event noch mal 2 Final Fantasy Booster extra Aller Voraussicht nach wird es KEINE FF-Prereleasekits für ein Prerelease@Home geben\, Sorry \nStartgebühr 50€ \nAnmeldecode für die Companion-App: YE4R7NW
URL:https://fischkrieg.de/event/final-fantasy-prerelease/
LOCATION:Fischkrieg Siegen\, Sandstraße 20\, Siegen\, NRW\, 57072\, Germany
CATEGORIES:Magic,TCG
ATTACH;FMTTYPE=image/jpeg:https://fischkrieg.de/wp-content/uploads/2025/06/FIN_sma_key_1640x680.jpg
END:VEVENT
END:VCALENDAR